BEGIN:VCALENDAR
VERSION:2.0
PRODID:-//Kids Matter Inc. - ECPv6.15.20//NONSGML v1.0//EN
CALSCALE:GREGORIAN
METHOD:PUBLISH
X-ORIGINAL-URL:https://www.kidsmatterinc.org
X-WR-CALDESC:Events for Kids Matter Inc.
REFRESH-INTERVAL;VALUE=DURATION:PT1H
X-Robots-Tag:noindex
X-PUBLISHED-TTL:PT1H
BEGIN:VTIMEZONE
TZID:America/Chicago
BEGIN:DAYLIGHT
TZOFFSETFROM:-0600
TZOFFSETTO:-0500
TZNAME:CDT
DTSTART:20190310T080000
END:DAYLIGHT
BEGIN:STANDARD
TZOFFSETFROM:-0500
TZOFFSETTO:-0600
TZNAME:CST
DTSTART:20191103T070000
END:STANDARD
BEGIN:DAYLIGHT
TZOFFSETFROM:-0600
TZOFFSETTO:-0500
TZNAME:CDT
DTSTART:20200308T080000
END:DAYLIGHT
BEGIN:STANDARD
TZOFFSETFROM:-0500
TZOFFSETTO:-0600
TZNAME:CST
DTSTART:20201101T070000
END:STANDARD
BEGIN:DAYLIGHT
TZOFFSETFROM:-0600
TZOFFSETTO:-0500
TZNAME:CDT
DTSTART:20210314T080000
END:DAYLIGHT
BEGIN:STANDARD
TZOFFSETFROM:-0500
TZOFFSETTO:-0600
TZNAME:CST
DTSTART:20211107T070000
END:STANDARD
BEGIN:DAYLIGHT
TZOFFSETFROM:-0600
TZOFFSETTO:-0500
TZNAME:CDT
DTSTART:20220313T080000
END:DAYLIGHT
BEGIN:STANDARD
TZOFFSETFROM:-0500
TZOFFSETTO:-0600
TZNAME:CST
DTSTART:20221106T070000
END:STANDARD
BEGIN:DAYLIGHT
TZOFFSETFROM:-0600
TZOFFSETTO:-0500
TZNAME:CDT
DTSTART:20230312T080000
END:DAYLIGHT
BEGIN:STANDARD
TZOFFSETFROM:-0500
TZOFFSETTO:-0600
TZNAME:CST
DTSTART:20231105T070000
END:STANDARD
BEGIN:DAYLIGHT
TZOFFSETFROM:-0600
TZOFFSETTO:-0500
TZNAME:CDT
DTSTART:20240310T080000
END:DAYLIGHT
BEGIN:STANDARD
TZOFFSETFROM:-0500
TZOFFSETTO:-0600
TZNAME:CST
DTSTART:20241103T070000
END:STANDARD
BEGIN:DAYLIGHT
TZOFFSETFROM:-0600
TZOFFSETTO:-0500
TZNAME:CDT
DTSTART:20250309T080000
END:DAYLIGHT
BEGIN:STANDARD
TZOFFSETFROM:-0500
TZOFFSETTO:-0600
TZNAME:CST
DTSTART:20251102T070000
END:STANDARD
BEGIN:DAYLIGHT
TZOFFSETFROM:-0600
TZOFFSETTO:-0500
TZNAME:CDT
DTSTART:20260308T080000
END:DAYLIGHT
BEGIN:STANDARD
TZOFFSETFROM:-0500
TZOFFSETTO:-0600
TZNAME:CST
DTSTART:20261101T070000
END:STANDARD
END:VTIMEZONE
BEGIN:VEVENT
DTSTART;TZID=America/Chicago:20250811T190000
DTEND;TZID=America/Chicago:20250811T200000
DTSTAMP:20260423T085744
CREATED:20250311T193720Z
LAST-MODIFIED:20250311T193720Z
UID:7495-1754938800-1754942400@www.kidsmatterinc.org
SUMMARY:CASA Info Session: August 2025
DESCRIPTION:If you’re interested in discovering what it takes to be a Court Appointed Special Advocate (CASA)\, join our next Q&A session! This virtual orientation to the Kids Matter CASA program will take place on Monday\, August 11\, 2025\, from 7 to 8 p.m. on Zoom. Email volunteer@kidsmatterinc.org to sign up to learn more!
URL:https://www.kidsmatterinc.org/event/casa-info-session-august-2025/
LOCATION:Zoom
END:VEVENT
BEGIN:VEVENT
DTSTART;TZID=America/Chicago:20250728T120000
DTEND;TZID=America/Chicago:20250728T130000
DTSTAMP:20260423T085744
CREATED:20250611T160936Z
LAST-MODIFIED:20250611T160936Z
UID:7597-1753704000-1753707600@www.kidsmatterinc.org
SUMMARY:What CASA Volunteers Need to Know About Guardianship
DESCRIPTION:Date: Monday\, July 28\, 2025\nTime: 12 to 1 p.m.\nLocation: Virtual via Zoom \nThis informational “lunch and learn” event will be hosted by Wisconsin CASA.
URL:https://www.kidsmatterinc.org/event/what-casa-volunteers-need-to-know-about-guardianship/
LOCATION:Zoom
END:VEVENT
BEGIN:VEVENT
DTSTART;TZID=America/Chicago:20250714T190000
DTEND;TZID=America/Chicago:20250714T200000
DTSTAMP:20260423T085744
CREATED:20250311T193559Z
LAST-MODIFIED:20250311T193559Z
UID:7494-1752519600-1752523200@www.kidsmatterinc.org
SUMMARY:CASA Info Session: July 2025
DESCRIPTION:If you’re interested in discovering what it takes to be a Court Appointed Special Advocate (CASA)\, join our next Q&A session! This virtual orientation to the Kids Matter CASA program will take place on Monday\, July 14\, 2025\, from 7 to 8 p.m. on Zoom. Email volunteer@kidsmatterinc.org to sign up to learn more!
URL:https://www.kidsmatterinc.org/event/casa-info-session-july-2025/
LOCATION:Zoom
END:VEVENT
BEGIN:VEVENT
DTSTART;TZID=America/Chicago:20250609T190000
DTEND;TZID=America/Chicago:20250609T200000
DTSTAMP:20260423T085744
CREATED:20250311T193206Z
LAST-MODIFIED:20250311T193206Z
UID:7493-1749495600-1749499200@www.kidsmatterinc.org
SUMMARY:CASA Info Session: June 2025
DESCRIPTION:If you’re interested in discovering what it takes to be a Court Appointed Special Advocate (CASA)\, join our next Q&A session! This virtual orientation to the Kids Matter CASA program will take place on Monday\, June 9\, 2025\, from 7 to 8 p.m. on Zoom. Email volunteer@kidsmatterinc.org to sign up to learn more!
URL:https://www.kidsmatterinc.org/event/casa-info-session-june-2025/
LOCATION:Zoom
END:VEVENT
BEGIN:VEVENT
DTSTART;TZID=America/Chicago:20250512T190000
DTEND;TZID=America/Chicago:20250512T200000
DTSTAMP:20260423T085744
CREATED:20250311T193114Z
LAST-MODIFIED:20250311T193114Z
UID:7492-1747076400-1747080000@www.kidsmatterinc.org
SUMMARY:CASA Info Session: May 2025
DESCRIPTION:If you’re interested in discovering what it takes to be a Court Appointed Special Advocate (CASA)\, join our next Q&A session! This virtual orientation to the Kids Matter CASA program will take place on Monday\, May 12\, 2025\, from 7 to 8 p.m. on Zoom. Email volunteer@kidsmatterinc.org to sign up to learn more!
URL:https://www.kidsmatterinc.org/event/casa-info-session-may-2025/
LOCATION:Zoom
END:VEVENT
BEGIN:VEVENT
DTSTART;TZID=America/Chicago:20250414T190000
DTEND;TZID=America/Chicago:20250414T200000
DTSTAMP:20260423T085744
CREATED:20250311T193006Z
LAST-MODIFIED:20250311T193006Z
UID:7490-1744657200-1744660800@www.kidsmatterinc.org
SUMMARY:CASA Info Session: April 2025
DESCRIPTION:If you’re interested in discovering what it takes to be a Court Appointed Special Advocate (CASA)\, join our next Q&A session! This virtual orientation to the Kids Matter CASA program will take place on Monday\, April 14\, 2025\, from 7 to 8 p.m. on Zoom. Email volunteer@kidsmatterinc.org to sign up to learn more!
URL:https://www.kidsmatterinc.org/event/casa-info-session-april-2025/
LOCATION:Zoom
END:VEVENT
BEGIN:VEVENT
DTSTART;TZID=America/Chicago:20210707T180000
DTEND;TZID=America/Chicago:20210707T210000
DTSTAMP:20260423T085744
CREATED:20201231T180510Z
LAST-MODIFIED:20201231T180510Z
UID:5636-1625680800-1625691600@www.kidsmatterinc.org
SUMMARY:CASA Summer Training Cycle
DESCRIPTION:Become a Court Appointed Special Advocate (CASA) for children! Applications are now being accepted for training. Background and reference checks and a personal interview are required for all volunteer applicants. \nSummer Training Cycle\nWednesday\, July 7\, 6:00pm to 9:00pm\nWednesday\, July 14\, 6:00pm to 9:00pm\nMonday\, July 19 – Friday\, July 23 – tentative courtroom observations\nWednesday\, July 21\, 6:00pm to 9:00pm\nWednesday\, July 28\, 6:00pm to 9:00pm\nWednesday\, August 4\, 6:00pm to 9:00pm
URL:https://www.kidsmatterinc.org/event/casa-summer-training-cycle/2021-07-07/
LOCATION:Zoom
END:VEVENT
BEGIN:VEVENT
DTSTART;TZID=America/Chicago:20210414T180000
DTEND;TZID=America/Chicago:20210414T210000
DTSTAMP:20260423T085744
CREATED:20201231T174849Z
LAST-MODIFIED:20201231T174849Z
UID:5630-1618423200-1618434000@www.kidsmatterinc.org
SUMMARY:CASA Spring Training Cycle
DESCRIPTION:Become a Court Appointed Special Advocate (CASA) for children! Applications are now being accepted for training. Background and reference checks and a personal interview are required for all volunteer applicants. \nSpring Training Cycle\nWednesday\, April 14\, 6:00pm to 9:00pm\nWednesday\, April 21\, 6:00pm to 9:00pm\nMonday\, April 26 – Friday\, April 30 – tentative courtroom observations\nWednesday\, April 28\, 6:00pm to 9:00pm\nWednesday\, May 5\, 6:00pm to 9:00pm\nWednesday\, May 12\, 6:00pm to 9:00pm
URL:https://www.kidsmatterinc.org/event/casa-spring-training-cycle/2021-04-14/
LOCATION:Zoom
END:VEVENT
BEGIN:VEVENT
DTSTART;TZID=America/Chicago:20210127T180000
DTEND;TZID=America/Chicago:20210127T210000
DTSTAMP:20260423T085744
CREATED:20201023T144503Z
LAST-MODIFIED:20210111T195353Z
UID:4846-1611770400-1611781200@www.kidsmatterinc.org
SUMMARY:CASA Winter Training Cycle
DESCRIPTION:Become a Court Appointed Special Advocate (CASA) for children! Applications are now being accepted for training. Background and reference checks and a personal interview are required for all volunteer applicants. \nWinter Training Cycle (virtual training)\nWednesday\, January 27\, 6:00pm to 9:00pm\nWednesday\, February 3\, 6:00pm to 9:00pm\nMonday\, February 8 – Friday\, February 12 – tentative courtroom observations\nWednesday\, February 10\, 6:00pm to 9:00pm\nWednesday\, February 17\, 6:00pm to 9:00pm\nWednesday\, February 24\, 6:00pm to 9:00pm
URL:https://www.kidsmatterinc.org/event/casa-winter-training-cycle/2021-01-27/
LOCATION:Zoom
END:VEVENT
BEGIN:VEVENT
DTSTART;TZID=America/Chicago:20210126T180000
DTEND;TZID=America/Chicago:20210126T190000
DTSTAMP:20260423T085744
CREATED:20210111T195646Z
LAST-MODIFIED:20210111T195646Z
UID:5707-1611684000-1611687600@www.kidsmatterinc.org
SUMMARY:Grandfamilies Matter Support Group
DESCRIPTION:Are you raising grandchildren? Are you feeling stretched thin? Spend an hour on yourself and join Kids Matter for the first Grandfamilies Matter Support Group of the year on Tuesday January 26th from 6-7 pm over Zoom. This month’s support group will focus on Self-Care for Caregivers. RSVP and attend to receive a $10 Starbucks gift card! We hope to see you there!
URL:https://www.kidsmatterinc.org/event/grandfamilies-matter-support-group/
LOCATION:Zoom
ATTACH;FMTTYPE=image/png:https://www.kidsmatterinc.org/wp-content/uploads/2021/01/Self-Care-for-Caregivers.png
END:VEVENT
BEGIN:VEVENT
DTSTART;TZID=America/Chicago:20201027T193000
DTEND;TZID=America/Chicago:20201027T203000
DTSTAMP:20260423T085744
CREATED:20201023T145927Z
LAST-MODIFIED:20201023T150008Z
UID:4859-1603827000-1603830600@www.kidsmatterinc.org
SUMMARY:CASA Discussion of Coded Bias
DESCRIPTION:Join us for a discussion of Milwaukee Film Festival movie “Coded Bias” over Zoom from 7:30pm-8:30pm on Tuesday\, October 27th.
URL:https://www.kidsmatterinc.org/event/casa-discussion-of-coded-bias/
LOCATION:Zoom
ORGANIZER;CN="":MAILTO:volun
END:VEVENT
END:VCALENDAR